BEGIN:VCALENDAR
VERSION:2.0
PRODID:-//hacksw/handcal//NONSGML v1.0//EN
CALSCALE:GREGORIAN
BEGIN:VEVENT
DTSTART:20200624T070000Z
DTEND:20200624T070000Z
UID:e22188
DTSTAMP:20260422T041855Z
LOCATION:Arthur and Rochelle Belfer Building for Biomedical Research
DESCRIPTION:Developmental Club Series 2019-20-cancelled
SUMMARY:Developmental Club Series 2019-20-cancelled
END:VEVENT
END:VCALENDAR