BEGIN:VCALENDAR
VERSION:2.0
PRODID:-//hacksw/handcal//NONSGML v1.0//EN
CALSCALE:GREGORIAN
BEGIN:VEVENT
DTSTART:20191215T160000Z
DTEND:20191215T173000Z
UID:e22194
DTSTAMP:20260419T101554Z
LOCATION:Gerhard M.J. Schmidt Lecture Hall
DESCRIPTION:“Yad Vashem” More than just a name 
SUMMARY:“Yad Vashem” More than just a name 
END:VEVENT
END:VCALENDAR