BEGIN:VCALENDAR
VERSION:2.0
PRODID:-//hacksw/handcal//NONSGML v1.0//EN
CALSCALE:GREGORIAN
BEGIN:VEVENT
DTSTART:20191212T110000Z
DTEND:20191212T120000Z
UID:e22198
DTSTAMP:20260419T231652Z
LOCATION:Max and Lillian Candiotty Building
DESCRIPTION:TAM Tyrosine Kinase Receptor Signaling in Cancer: Unexpected Roles in the Tumor microenvironment
SUMMARY:TAM Tyrosine Kinase Receptor Signaling in Cancer: Unexpected Roles in the Tumor microenvironment
END:VEVENT
END:VCALENDAR