BEGIN:VCALENDAR
VERSION:2.0
PRODID:-//hacksw/handcal//NONSGML v1.0//EN
CALSCALE:GREGORIAN
BEGIN:VEVENT
DTSTART:20200903T050000Z
DTEND:20200903T150000Z
UID:e22204
DTSTAMP:20260422T151204Z
LOCATION:Gerhard M.J. Schmidt Lecture Hall
DESCRIPTION:Microscopy and Spectroscopic Imaging  of Nanostructures
SUMMARY:Microscopy and Spectroscopic Imaging  of Nanostructures
END:VEVENT
END:VCALENDAR