BEGIN:VCALENDAR
VERSION:2.0
PRODID:-//hacksw/handcal//NONSGML v1.0//EN
CALSCALE:GREGORIAN
BEGIN:VEVENT
DTSTART:20191217T110000Z
DTEND:20191217T120000Z
UID:e22220
DTSTAMP:20260420T054928Z
LOCATION:Helen and Milton A. Kimmelman Building
DESCRIPTION:Metal-binding as a new approach for peptoids folding and self assembly
SUMMARY:Metal-binding as a new approach for peptoids folding and self assembly
END:VEVENT
END:VCALENDAR