BEGIN:VCALENDAR
VERSION:2.0
PRODID:-//hacksw/handcal//NONSGML v1.0//EN
CALSCALE:GREGORIAN
BEGIN:VEVENT
DTSTART:20191230T080000Z
DTEND:20191230T080000Z
UID:e22226
DTSTAMP:20260420T003352Z
LOCATION:Gerhard M.J. Schmidt Lecture Hall
DESCRIPTION:The Braginsky Center for the Interface between the Sciences and the Humanities
SUMMARY:The Braginsky Center for the Interface between the Sciences and the Humanities
END:VEVENT
END:VCALENDAR