BEGIN:VCALENDAR
VERSION:2.0
PRODID:-//hacksw/handcal//NONSGML v1.0//EN
CALSCALE:GREGORIAN
BEGIN:VEVENT
DTSTART:20200301T100000Z
DTEND:20200301T100000Z
UID:e22240
DTSTAMP:20260420T183851Z
LOCATION:Arthur and Rochelle Belfer Building for Biomedical Research
DESCRIPTION:Departmental Seminar by Rami Tshuva & Dvir Schirman
SUMMARY:Departmental Seminar by Rami Tshuva & Dvir Schirman
END:VEVENT
END:VCALENDAR