BEGIN:VCALENDAR
VERSION:2.0
PRODID:-//hacksw/handcal//NONSGML v1.0//EN
CALSCALE:GREGORIAN
BEGIN:VEVENT
DTSTART:20200315T100000Z
DTEND:20200315T100000Z
UID:e22242
DTSTAMP:20260423T183831Z
LOCATION:Arthur and Rochelle Belfer Building for Biomedical Research
DESCRIPTION:Departmental Seminar by Gat Krieger & Kamalesh Kumari
SUMMARY:Departmental Seminar by Gat Krieger & Kamalesh Kumari
END:VEVENT
END:VCALENDAR