BEGIN:VCALENDAR
VERSION:2.0
PRODID:-//hacksw/handcal//NONSGML v1.0//EN
CALSCALE:GREGORIAN
BEGIN:VEVENT
DTSTART:20200329T100000Z
DTEND:20200329T100000Z
UID:e22244
DTSTAMP:20260421T004827Z
LOCATION:Arthur and Rochelle Belfer Building for Biomedical Research
DESCRIPTION:POSTPONED: Departmental Seminar by Daria Amiad-Pavlov & Lia Yerushalmi
SUMMARY:POSTPONED: Departmental Seminar by Daria Amiad-Pavlov & Lia Yerushalmi
END:VEVENT
END:VCALENDAR