BEGIN:VCALENDAR
VERSION:2.0
PRODID:-//hacksw/handcal//NONSGML v1.0//EN
CALSCALE:GREGORIAN
BEGIN:VEVENT
DTSTART:20200419T100000Z
DTEND:20200419T100000Z
UID:e22246
DTSTAMP:20260421T213546Z
LOCATION:Arthur and Rochelle Belfer Building for Biomedical Research
DESCRIPTION:Departmental Seminar by Nir Cohen & TBD
SUMMARY:Departmental Seminar by Nir Cohen & TBD
END:VEVENT
END:VCALENDAR