BEGIN:VCALENDAR
VERSION:2.0
PRODID:-//hacksw/handcal//NONSGML v1.0//EN
CALSCALE:GREGORIAN
BEGIN:VEVENT
DTSTART:20191128T080000Z
DTEND:20191128T090000Z
UID:e22262
DTSTAMP:20260421T082815Z
LOCATION:Max and Lillian Candiotty Building
DESCRIPTION:A tale of two tales: a. Deconvolving cell-specific expression from bulk tumor data portrays the response to checkpoint therapy b. Uncovering the mutation selection associated with CRISPR editing
SUMMARY:A tale of two tales: a. Deconvolving cell-specific expression from bulk tumor data portrays the response to checkpoint therapy b. Uncovering the mutation selection associated with CRISPR editing
END:VEVENT
END:VCALENDAR