BEGIN:VCALENDAR
VERSION:2.0
PRODID:-//hacksw/handcal//NONSGML v1.0//EN
CALSCALE:GREGORIAN
BEGIN:VEVENT
DTSTART:20191127T103000Z
DTEND:20191127T113000Z
UID:e22264
DTSTAMP:20260421T060145Z
LOCATION:Sussman Family Building for Environmental Sciences
DESCRIPTION:A Photodynamical Model for Uniform and Precise Planetary Parameters Determination in Kepler Systems
SUMMARY:A Photodynamical Model for Uniform and Precise Planetary Parameters Determination in Kepler Systems
END:VEVENT
END:VCALENDAR