BEGIN:VCALENDAR
VERSION:2.0
PRODID:-//hacksw/handcal//NONSGML v1.0//EN
CALSCALE:GREGORIAN
BEGIN:VEVENT
DTSTART:20200909T150000Z
DTEND:20200909T180000Z
UID:e22288
DTSTAMP:20260422T041859Z
LOCATION:
DESCRIPTION:Feinberg Graduation Ceremony
SUMMARY:Feinberg Graduation Ceremony
END:VEVENT
END:VCALENDAR