BEGIN:VCALENDAR
VERSION:2.0
PRODID:-//hacksw/handcal//NONSGML v1.0//EN
CALSCALE:GREGORIAN
BEGIN:VEVENT
DTSTART:20201018T050000Z
DTEND:20201022T050000Z
UID:e22298
DTSTAMP:20260422T204813Z
LOCATION:The David Lopatie Conference Centre
DESCRIPTION:Tomography Twinning
SUMMARY:Tomography Twinning
END:VEVENT
END:VCALENDAR