BEGIN:VCALENDAR
VERSION:2.0
PRODID:-//hacksw/handcal//NONSGML v1.0//EN
CALSCALE:GREGORIAN
BEGIN:VEVENT
DTSTART:20191203T093000Z
DTEND:20191203T093000Z
UID:e22300
DTSTAMP:20260420T154957Z
LOCATION:Gerhard M.J. Schmidt Lecture Hall
DESCRIPTION:Rodents' social recognition:  what the nose knows…and what it doesn't
SUMMARY:Rodents' social recognition:  what the nose knows…and what it doesn't
END:VEVENT
END:VCALENDAR