BEGIN:VCALENDAR
VERSION:2.0
PRODID:-//hacksw/handcal//NONSGML v1.0//EN
CALSCALE:GREGORIAN
BEGIN:VEVENT
DTSTART:20200105T080000Z
DTEND:20200105T090000Z
UID:e22306
DTSTAMP:20260420T122358Z
LOCATION:Gerhard M.J. Schmidt Lecture Hall
DESCRIPTION:When people disappear - Stories and fairytales
SUMMARY:When people disappear - Stories and fairytales
END:VEVENT
END:VCALENDAR