BEGIN:VCALENDAR
VERSION:2.0
PRODID:-//hacksw/handcal//NONSGML v1.0//EN
CALSCALE:GREGORIAN
BEGIN:VEVENT
DTSTART:20200212T083000Z
DTEND:20200212T093000Z
UID:e22312
DTSTAMP:20260419T224753Z
LOCATION:Nella and Leon Benoziyo Building for Biological Sciences
DESCRIPTION:Special Guest Seminar with Prof. Detlef Wiegel
SUMMARY:Special Guest Seminar with Prof. Detlef Wiegel
END:VEVENT
END:VCALENDAR