BEGIN:VCALENDAR
VERSION:2.0
PRODID:-//hacksw/handcal//NONSGML v1.0//EN
CALSCALE:GREGORIAN
BEGIN:VEVENT
DTSTART:20191201T130000Z
DTEND:20191201T140000Z
UID:e22322
DTSTAMP:20260419T231701Z
LOCATION:Gerhard M.J. Schmidt Lecture Hall
DESCRIPTION:Braginsky Center for the Interface between the Sciences and the Humanities\, special guest lecture with Daniel Matt
SUMMARY:Braginsky Center for the Interface between the Sciences and the Humanities\, special guest lecture with Daniel Matt
END:VEVENT
END:VCALENDAR