BEGIN:VCALENDAR
VERSION:2.0
PRODID:-//hacksw/handcal//NONSGML v1.0//EN
CALSCALE:GREGORIAN
BEGIN:VEVENT
DTSTART:20191212T070000Z
DTEND:20191212T080000Z
UID:e22334
DTSTAMP:20260419T101559Z
LOCATION:Perlman Chemical Sciences Building
DESCRIPTION:In vivo multimodality imaging of immune-vascular interactions in cardiovascular disease
SUMMARY:In vivo multimodality imaging of immune-vascular interactions in cardiovascular disease
END:VEVENT
END:VCALENDAR