BEGIN:VCALENDAR
VERSION:2.0
PRODID:-//hacksw/handcal//NONSGML v1.0//EN
CALSCALE:GREGORIAN
BEGIN:VEVENT
DTSTART:20191201T080000Z
DTEND:20191201T080000Z
UID:e22338
DTSTAMP:20260421T085331Z
LOCATION:Sussman Family Building for Environmental Sciences
DESCRIPTION:Using cosmogenic 21Ne to quantify sediment residence time in large-scale fluvial systems throughout the geological record
SUMMARY:Using cosmogenic 21Ne to quantify sediment residence time in large-scale fluvial systems throughout the geological record
END:VEVENT
END:VCALENDAR