BEGIN:VCALENDAR
VERSION:2.0
PRODID:-//hacksw/handcal//NONSGML v1.0//EN
CALSCALE:GREGORIAN
BEGIN:VEVENT
DTSTART:20200112T110000Z
DTEND:20200112T110000Z
UID:e22352
DTSTAMP:20260420T194159Z
LOCATION:Perlman Chemical Sciences Building
DESCRIPTION:Chemical and Biological Physics Guest Seminar
SUMMARY:Chemical and Biological Physics Guest Seminar
END:VEVENT
END:VCALENDAR