BEGIN:VCALENDAR
VERSION:2.0
PRODID:-//hacksw/handcal//NONSGML v1.0//EN
CALSCALE:GREGORIAN
BEGIN:VEVENT
DTSTART:20191218T121500Z
DTEND:20191218T121500Z
UID:e22372
DTSTAMP:20260420T054858Z
LOCATION:The David Lopatie Hall of Graduate Studies
DESCRIPTION:Decipher the properties of sex-shared yet dimorphic neuronal circuits
SUMMARY:Decipher the properties of sex-shared yet dimorphic neuronal circuits
END:VEVENT
END:VCALENDAR