BEGIN:VCALENDAR
VERSION:2.0
PRODID:-//hacksw/handcal//NONSGML v1.0//EN
CALSCALE:GREGORIAN
BEGIN:VEVENT
DTSTART:20191219T063000Z
DTEND:20191219T073000Z
UID:e22376
DTSTAMP:20260420T054853Z
LOCATION:Perlman Chemical Sciences Building
DESCRIPTION:Simulating the whole of magnetic resonance
SUMMARY:Simulating the whole of magnetic resonance
END:VEVENT
END:VCALENDAR