BEGIN:VCALENDAR
VERSION:2.0
PRODID:-//hacksw/handcal//NONSGML v1.0//EN
CALSCALE:GREGORIAN
BEGIN:VEVENT
DTSTART:20191209T111500Z
DTEND:20191209T111500Z
UID:e22384
DTSTAMP:20260421T060041Z
LOCATION:Edna and K.B. Weissman Building of Physical Sciences
DESCRIPTION:A quantitative footprint of irreversibility in the absence of observable currents
SUMMARY:A quantitative footprint of irreversibility in the absence of observable currents
END:VEVENT
END:VCALENDAR