BEGIN:VCALENDAR
VERSION:2.0
PRODID:-//hacksw/handcal//NONSGML v1.0//EN
CALSCALE:GREGORIAN
BEGIN:VEVENT
DTSTART:20200101T110000Z
DTEND:20200101T130000Z
UID:e22390
DTSTAMP:20260421T235419Z
LOCATION:Max and Lillian Candiotty Building
DESCRIPTION:Host Pathogen Club
SUMMARY:Host Pathogen Club
END:VEVENT
END:VCALENDAR