BEGIN:VCALENDAR
VERSION:2.0
PRODID:-//hacksw/handcal//NONSGML v1.0//EN
CALSCALE:GREGORIAN
BEGIN:VEVENT
DTSTART:20200121T090000Z
DTEND:20200121T090000Z
UID:e22396
DTSTAMP:20260422T204933Z
LOCATION:Dolfi and Lola Ebner Auditorium
DESCRIPTION:Prof. Ron Milo   - Who weighs more? The global census of nature
SUMMARY:Prof. Ron Milo   - Who weighs more? The global census of nature
END:VEVENT
END:VCALENDAR