BEGIN:VCALENDAR
VERSION:2.0
PRODID:-//hacksw/handcal//NONSGML v1.0//EN
CALSCALE:GREGORIAN
BEGIN:VEVENT
DTSTART:20191215T080000Z
DTEND:20191215T090000Z
UID:e22398
DTSTAMP:20260419T231700Z
LOCATION:Perlman Chemical Sciences Building
DESCRIPTION:Topological defects in the actin cytoskeleton as organizing centers of Hydra morphogenesis
SUMMARY:Topological defects in the actin cytoskeleton as organizing centers of Hydra morphogenesis
END:VEVENT
END:VCALENDAR