BEGIN:VCALENDAR
VERSION:2.0
PRODID:-//hacksw/handcal//NONSGML v1.0//EN
CALSCALE:GREGORIAN
BEGIN:VEVENT
DTSTART:20200107T080000Z
DTEND:20200107T090000Z
UID:e22412
DTSTAMP:20260421T114656Z
LOCATION:Helen and Milton A. Kimmelman Building
DESCRIPTION:A hydrogen-bonded framework toolkit for molecular structure determination
SUMMARY:A hydrogen-bonded framework toolkit for molecular structure determination
END:VEVENT
END:VCALENDAR