BEGIN:VCALENDAR
VERSION:2.0
PRODID:-//hacksw/handcal//NONSGML v1.0//EN
CALSCALE:GREGORIAN
BEGIN:VEVENT
DTSTART:20200105T080000Z
DTEND:20200105T080000Z
UID:e22428
DTSTAMP:20260421T034542Z
LOCATION:Sussman Family Building for Environmental Sciences
DESCRIPTION:The Critical Role of Chronology in Understanding Past Climate Change: Precisely Reconstructing Holocene Climate at Mono Lake\, California
SUMMARY:The Critical Role of Chronology in Understanding Past Climate Change: Precisely Reconstructing Holocene Climate at Mono Lake\, California
END:VEVENT
END:VCALENDAR