BEGIN:VCALENDAR
VERSION:2.0
PRODID:-//hacksw/handcal//NONSGML v1.0//EN
CALSCALE:GREGORIAN
BEGIN:VEVENT
DTSTART:20200112T080000Z
DTEND:20200112T080000Z
UID:e22432
DTSTAMP:20260422T041755Z
LOCATION:Sussman Family Building for Environmental Sciences
DESCRIPTION:Orbital modulation of geological activity
SUMMARY:Orbital modulation of geological activity
END:VEVENT
END:VCALENDAR