BEGIN:VCALENDAR
VERSION:2.0
PRODID:-//hacksw/handcal//NONSGML v1.0//EN
CALSCALE:GREGORIAN
BEGIN:VEVENT
DTSTART:20191216T111500Z
DTEND:20191216T111500Z
UID:e22440
DTSTAMP:20260420T173728Z
LOCATION:
DESCRIPTION:Learning the code of large neural populations using random nonlinear projections
SUMMARY:Learning the code of large neural populations using random nonlinear projections
END:VEVENT
END:VCALENDAR