BEGIN:VCALENDAR
VERSION:2.0
PRODID:-//hacksw/handcal//NONSGML v1.0//EN
CALSCALE:GREGORIAN
BEGIN:VEVENT
DTSTART:20191224T083000Z
DTEND:20191224T093000Z
UID:e22452
DTSTAMP:20260424T055743Z
LOCATION:Nella and Leon Benoziyo Building for Biological Sciences
DESCRIPTION:Balancing flexibility and stability in tomato leaf patterning 
SUMMARY:Balancing flexibility and stability in tomato leaf patterning 
END:VEVENT
END:VCALENDAR