BEGIN:VCALENDAR
VERSION:2.0
PRODID:-//hacksw/handcal//NONSGML v1.0//EN
CALSCALE:GREGORIAN
BEGIN:VEVENT
DTSTART:20191225T080000Z
DTEND:20191225T090000Z
UID:e22462
DTSTAMP:20260420T050057Z
LOCATION:Perlman Chemical Sciences Building
DESCRIPTION:“2D\, 3D\, 4D printing:  The next industrial revolution”
SUMMARY:“2D\, 3D\, 4D printing:  The next industrial revolution”
END:VEVENT
END:VCALENDAR