BEGIN:VCALENDAR
VERSION:2.0
PRODID:-//hacksw/handcal//NONSGML v1.0//EN
CALSCALE:GREGORIAN
BEGIN:VEVENT
DTSTART:20191230T060000Z
DTEND:20191230T070000Z
UID:e22478
DTSTAMP:20260420T050058Z
LOCATION:Gerhard M.J. Schmidt Lecture Hall
DESCRIPTION:NMR structure and dynamics studies of oligo- and polysaccharides 
SUMMARY:NMR structure and dynamics studies of oligo- and polysaccharides 
END:VEVENT
END:VCALENDAR