BEGIN:VCALENDAR
VERSION:2.0
PRODID:-//hacksw/handcal//NONSGML v1.0//EN
CALSCALE:GREGORIAN
BEGIN:VEVENT
DTSTART:20200112T100000Z
DTEND:20200112T110000Z
UID:e22496
DTSTAMP:20260421T114545Z
LOCATION:Nella and Leon Benoziyo Building for Biological Sciences
DESCRIPTION:Assessment of Potential Energy (mgh) Storage Opportunities
SUMMARY:Assessment of Potential Energy (mgh) Storage Opportunities
END:VEVENT
END:VCALENDAR