BEGIN:VCALENDAR
VERSION:2.0
PRODID:-//hacksw/handcal//NONSGML v1.0//EN
CALSCALE:GREGORIAN
BEGIN:VEVENT
DTSTART:20191231T083000Z
DTEND:20191231T093000Z
UID:e22524
DTSTAMP:20260420T062937Z
LOCATION:Nella and Leon Benoziyo Building for Biological Sciences
DESCRIPTION:From species diversity to trait diversity
SUMMARY:From species diversity to trait diversity
END:VEVENT
END:VCALENDAR