BEGIN:VCALENDAR
VERSION:2.0
PRODID:-//hacksw/handcal//NONSGML v1.0//EN
CALSCALE:GREGORIAN
BEGIN:VEVENT
DTSTART:20200122T080000Z
DTEND:20200122T090000Z
UID:e22540
DTSTAMP:20260419T123846Z
LOCATION:Wolfson Building for Biological Research
DESCRIPTION:IMM Guest seminar- Dr. Ela Elyada\, will lecture on "Uncovering fibroblast heterogeneity in pancreatic cancer". 
SUMMARY:IMM Guest seminar- Dr. Ela Elyada\, will lecture on "Uncovering fibroblast heterogeneity in pancreatic cancer". 
END:VEVENT
END:VCALENDAR