BEGIN:VCALENDAR
VERSION:2.0
PRODID:-//hacksw/handcal//NONSGML v1.0//EN
CALSCALE:GREGORIAN
BEGIN:VEVENT
DTSTART:20200119T070000Z
DTEND:20200119T080000Z
UID:e22542
DTSTAMP:20260422T120917Z
LOCATION:Wolfson Building for Biological Research
DESCRIPTION:Guest seminar- Dr. Livnat Jerby-Arnon\, will lecture on "Dissecting immune evasion mechanisms in cancer using single-cell technologies”
SUMMARY:Guest seminar- Dr. Livnat Jerby-Arnon\, will lecture on "Dissecting immune evasion mechanisms in cancer using single-cell technologies”
END:VEVENT
END:VCALENDAR