BEGIN:VCALENDAR
VERSION:2.0
PRODID:-//hacksw/handcal//NONSGML v1.0//EN
CALSCALE:GREGORIAN
BEGIN:VEVENT
DTSTART:20200114T080000Z
DTEND:20200114T090000Z
UID:e22556
DTSTAMP:20260422T120915Z
LOCATION:Helen and Milton A. Kimmelman Building
DESCRIPTION:Introduction to process -way-of-thinking via case study of three stages telescoping (Domino)- type process
SUMMARY:Introduction to process -way-of-thinking via case study of three stages telescoping (Domino)- type process
END:VEVENT
END:VCALENDAR