BEGIN:VCALENDAR
VERSION:2.0
PRODID:-//hacksw/handcal//NONSGML v1.0//EN
CALSCALE:GREGORIAN
BEGIN:VEVENT
DTSTART:20200202T080000Z
DTEND:20200202T080000Z
UID:e22566
DTSTAMP:20260424T223822Z
LOCATION:Sussman Family Building for Environmental Sciences
DESCRIPTION:Developing Models to Estimate Crop Water Consumption based on Remote Sensing and Meteorological Data
SUMMARY:Developing Models to Estimate Crop Water Consumption based on Remote Sensing and Meteorological Data
END:VEVENT
END:VCALENDAR