BEGIN:VCALENDAR
VERSION:2.0
PRODID:-//hacksw/handcal//NONSGML v1.0//EN
CALSCALE:GREGORIAN
BEGIN:VEVENT
DTSTART:20200113T103000Z
DTEND:20200113T103000Z
UID:e22582
DTSTAMP:20260422T120919Z
LOCATION:The David Lopatie Hall of Graduate Studies
DESCRIPTION:MSc Thesis Defense/PhD Proposal - Auditory response to sounds originating  from whisking against objects
SUMMARY:MSc Thesis Defense/PhD Proposal - Auditory response to sounds originating  from whisking against objects
END:VEVENT
END:VCALENDAR