BEGIN:VCALENDAR
VERSION:2.0
PRODID:-//hacksw/handcal//NONSGML v1.0//EN
CALSCALE:GREGORIAN
BEGIN:VEVENT
DTSTART:20200130T073000Z
DTEND:20200130T073000Z
UID:e22586
DTSTAMP:20260422T033920Z
LOCATION:Nella and Leon Benoziyo Building for Brain Research
DESCRIPTION:PhD Thesis Defense - Spatial and temporal integration in perceptual calibration
SUMMARY:PhD Thesis Defense - Spatial and temporal integration in perceptual calibration
END:VEVENT
END:VCALENDAR