BEGIN:VCALENDAR
VERSION:2.0
PRODID:-//hacksw/handcal//NONSGML v1.0//EN
CALSCALE:GREGORIAN
BEGIN:VEVENT
DTSTART:20200106T100000Z
DTEND:20200106T110000Z
UID:e22588
DTSTAMP:20260421T235413Z
LOCATION:Wolfson Building for Biological Research
DESCRIPTION:IMM Student seminar- Adi Ulman  (Dr. Yifat Merbl’s lab)and - Ran Salomon (Dr. Rony Dahan’s lab)
SUMMARY:IMM Student seminar- Adi Ulman  (Dr. Yifat Merbl’s lab)and - Ran Salomon (Dr. Rony Dahan’s lab)
END:VEVENT
END:VCALENDAR