BEGIN:VCALENDAR
VERSION:2.0
PRODID:-//hacksw/handcal//NONSGML v1.0//EN
CALSCALE:GREGORIAN
BEGIN:VEVENT
DTSTART:20200107T083000Z
DTEND:20200107T093000Z
UID:e22592
DTSTAMP:20260420T085602Z
LOCATION:Nella and Leon Benoziyo Building for Biological Sciences
DESCRIPTION:“Exploring climate sensitivity using living and fossil plants”
SUMMARY:“Exploring climate sensitivity using living and fossil plants”
END:VEVENT
END:VCALENDAR