BEGIN:VCALENDAR
VERSION:2.0
PRODID:-//hacksw/handcal//NONSGML v1.0//EN
CALSCALE:GREGORIAN
BEGIN:VEVENT
DTSTART:20200213T090000Z
DTEND:20200213T090000Z
UID:e22594
DTSTAMP:20260419T224752Z
LOCATION:Dolfi and Lola Ebner Auditorium
DESCRIPTION:Prof. Ehud Ahissar  - What is\, actually\, science?
SUMMARY:Prof. Ehud Ahissar  - What is\, actually\, science?
END:VEVENT
END:VCALENDAR