BEGIN:VCALENDAR
VERSION:2.0
PRODID:-//hacksw/handcal//NONSGML v1.0//EN
CALSCALE:GREGORIAN
BEGIN:VEVENT
DTSTART:20200112T080000Z
DTEND:20200112T090000Z
UID:e22614
DTSTAMP:20260421T114634Z
LOCATION:Perlman Chemical Sciences Building
DESCRIPTION:"Modeling growth of biological tissues"
SUMMARY:"Modeling growth of biological tissues"
END:VEVENT
END:VCALENDAR