BEGIN:VCALENDAR
VERSION:2.0
PRODID:-//hacksw/handcal//NONSGML v1.0//EN
CALSCALE:GREGORIAN
BEGIN:VEVENT
DTSTART:20200225T050000Z
DTEND:20200226T050000Z
UID:e22632
DTSTAMP:20260421T085259Z
LOCATION:The David Lopatie Conference Centre
DESCRIPTION:Ultra-High Field Nuclear Magnetic Resonance
SUMMARY:Ultra-High Field Nuclear Magnetic Resonance
END:VEVENT
END:VCALENDAR