BEGIN:VCALENDAR
VERSION:2.0
PRODID:-//hacksw/handcal//NONSGML v1.0//EN
CALSCALE:GREGORIAN
BEGIN:VEVENT
DTSTART:20210321T050000Z
DTEND:20210322T050000Z
UID:e22644
DTSTAMP:20260420T034112Z
LOCATION:
DESCRIPTION:Big Data in Healthcare
SUMMARY:Big Data in Healthcare
END:VEVENT
END:VCALENDAR