BEGIN:VCALENDAR
VERSION:2.0
PRODID:-//hacksw/handcal//NONSGML v1.0//EN
CALSCALE:GREGORIAN
BEGIN:VEVENT
DTSTART:20200126T080000Z
DTEND:20200126T090000Z
UID:e22650
DTSTAMP:20260419T123849Z
LOCATION:Perlman Chemical Sciences Building
DESCRIPTION:Mechanical interaction between cells in fibrous environments
SUMMARY:Mechanical interaction between cells in fibrous environments
END:VEVENT
END:VCALENDAR