BEGIN:VCALENDAR
VERSION:2.0
PRODID:-//hacksw/handcal//NONSGML v1.0//EN
CALSCALE:GREGORIAN
BEGIN:VEVENT
DTSTART:20200128T083000Z
DTEND:20200128T093000Z
UID:e22654
DTSTAMP:20260422T033914Z
LOCATION:Nella and Leon Benoziyo Building for Biological Sciences
DESCRIPTION:New type-1 and type-3 microbial rhodopsins
SUMMARY:New type-1 and type-3 microbial rhodopsins
END:VEVENT
END:VCALENDAR